BEGIN:VCALENDAR
CALSCALE:GREGORIAN
BEGIN:VEVENT
DTSTAMP:20231223T011146Z
DTSTART:20240120T020000Z
DTEND:20240121T220000Z
SUMMARY:Mas-aaah! Winter Spirituality Retreat
UID:adf878ad-f974-45e1-8d27-e402d0273859
LOCATION:Cle Elum\, WA 98922\, USA
DESCRIPTION:Thank you for registering to our event! Your tickets are attached to this email. Don't forget to bring them.\n\nWe're looking forward to seeing you there.\n\nHere are the details:\n\nMas-aaah! Winter Spirituality Retreat\nJanuary 19\, 2024 at 6:00 PM – January 21\, 2024 at 2:00 PM PST\nCle Elum\, Cle Elum\, WA 98922\, USA
X-ALT-DESC;FMTTYPE=text/html:Thank you for registering to our event! Your tickets are attached to this email. Don't forget to bring them.\n\nWe're looking forward to seeing you there.\n\nHere are the details:<br>Mas-aaah! Winter Spirituality Retreat\nJanuary 19\, 2024 at 6:00 PM – January 21\, 2024 at 2:00 PM PST\nCle Elum\, Cle Elum\, WA 98922\, USA
END:VEVENT
END:VCALENDAR
