BEGIN:VCALENDAR
CALSCALE:GREGORIAN
BEGIN:VEVENT
DTSTAMP:20231223T013225Z
DTSTART:20230930T163000Z
DTEND:20230930T173000Z
SUMMARY:Torah-From Cover to Cover
UID:aee449c5-f3e7-4230-9f2b-717f12da0cb8
LOCATION:
X-ALT-DESC;FMTTYPE=text/html:
END:VEVENT
END:VCALENDAR
