BEGIN:VCALENDAR
CALSCALE:GREGORIAN
BEGIN:VEVENT
DTSTAMP:20231223T013036Z
DTSTART:20230916T020000Z
DTEND:20230917T020000Z
SUMMARY:Torah-From Cover to Cover
UID:b8f92fce-0fd0-48ff-86f2-3f5b924a8cc1
LOCATION:
X-ALT-DESC;FMTTYPE=text/html:
END:VEVENT
END:VCALENDAR
