BEGIN:VCALENDAR
CALSCALE:GREGORIAN
BEGIN:VEVENT
DTSTAMP:20231223T013233Z
DTSTART:20230803T010000Z
DTEND:20230803T023000Z
SUMMARY:Jew Curious\; Hot Topics in Judaism
UID:b98fedae-ae7d-43c5-bfa9-825c84f93837
LOCATION:
DESCRIPTION:Thank you for registering to our event!\n\nWe're looking forward to seeing you there.\n\nHere are the event details:\n\nJew Curious\; Hot Topics in Judaism\nAugust 2\, 2023\, 6:00 – 7:30 PM\nZoom
X-ALT-DESC;FMTTYPE=text/html:Thank you for registering to our event!\n\nWe're looking forward to seeing you there.\n\nHere are the event details:<br>Jew Curious\; Hot Topics in Judaism\nAugust 2\, 2023\, 6:00 – 7:30 PM\nZoom
END:VEVENT
END:VCALENDAR
