BEGIN:VCALENDAR
CALSCALE:GREGORIAN
BEGIN:VEVENT
DTSTAMP:20231223T013249Z
DTSTART:20230406T013000Z
DTEND:20230406T030000Z
SUMMARY:Jew Curious? Judaism 101 for those looking to learn more about Judaism or seeking conversion
UID:b9f490e2-431f-48f8-8956-1a4d50d95fa1
LOCATION:
DESCRIPTION:Thank you for registering to our event! Your tickets are attached to this email. Don't forget to bring them.\n\nWe're looking forward to seeing you there.\n\nHere are the details:\n\nJew Curious? Judaism 101 for those looking to learn more about Judaism or seeking conversion\nApril 5\, 2023\, 6:30 – 8:00 PM PDT\nZoom
X-ALT-DESC;FMTTYPE=text/html:Thank you for registering to our event! Your tickets are attached to this email. Don't forget to bring them.\n\nWe're looking forward to seeing you there.\n\nHere are the details:<br>Jew Curious? Judaism 101 for those looking to learn more about Judaism or seeking conversion\nApril 5\, 2023\, 6:30 – 8:00 PM PDT\nZoom
END:VEVENT
END:VCALENDAR
