BEGIN:VCALENDAR
CALSCALE:GREGORIAN
BEGIN:VEVENT
DTSTAMP:20231223T011442Z
DTSTART:20231223T173000Z
DTEND:20231223T183000Z
SUMMARY:Torah-From Cover to Cover
UID:b052be35-2396-4b40-a836-193624f6392b
LOCATION:
X-ALT-DESC;FMTTYPE=text/html:
END:VEVENT
END:VCALENDAR
