BEGIN:VCALENDAR
CALSCALE:GREGORIAN
BEGIN:VEVENT
DTSTAMP:20231223T013241Z
DTSTART:20231128T030000Z
DTEND:20231128T040000Z
SUMMARY:Mussar Mondays
UID:b3db8ae1-6e8c-452a-8c0b-74c8ed4d1b7c
LOCATION:
X-ALT-DESC;FMTTYPE=text/html:
END:VEVENT
END:VCALENDAR
