BEGIN:VCALENDAR
CALSCALE:GREGORIAN
BEGIN:VEVENT
DTSTAMP:20231223T013245Z
DTSTART:20230909T170000Z
DTEND:20230909T180000Z
SUMMARY:Torah-From Cover to Cover
UID:ba0722cf-e68d-416d-b40f-9593e35a3e42
LOCATION:
X-ALT-DESC;FMTTYPE=text/html:
END:VEVENT
END:VCALENDAR
