BEGIN:VCALENDAR
CALSCALE:GREGORIAN
BEGIN:VEVENT
DTSTAMP:20231223T013303Z
DTSTART:20230415T170000Z
DTEND:20230415T183000Z
SUMMARY:Torah: From cover to cover
UID:bdd7fe75-ad4d-4330-a587-42670634de99
LOCATION:
DESCRIPTION:Thank you for registering to our event!\n\nWe're looking forward to seeing you there.\n\nHere are the event details:\n\nTorah: From cover to cover\nApril 15\, 2023\, 10:00 – 11:30 AM\nZoom
X-ALT-DESC;FMTTYPE=text/html:Thank you for registering to our event!\n\nWe're looking forward to seeing you there.\n\nHere are the event details:<br>Torah: From cover to cover\nApril 15\, 2023\, 10:00 – 11:30 AM\nZoom
END:VEVENT
END:VCALENDAR
