BEGIN:VCALENDAR
CALSCALE:GREGORIAN
BEGIN:VEVENT
DTSTAMP:20231223T013123Z
DTSTART:20230121T021500Z
DTEND:20230122T021500Z
SUMMARY:Shabbat Supper Club
UID:c717c037-ff70-406f-9778-cd66223a5490
DESCRIPTION:Thank you for registering to our event!\n\nWe're looking forward to seeing you there.\n\nHere are the event details:\n\nShabbat Supper Club\nJanuary 20\, 2023 at 6:15 PM – January 21\, 2023 at 6:15 PM PST\nLocation is TBD
X-ALT-DESC;FMTTYPE=text/html:Thank you for registering to our event!\n\nWe're looking forward to seeing you there.\n\nHere are the event details:<br>Shabbat Supper Club\nJanuary 20\, 2023 at 6:15 PM – January 21\, 2023 at 6:15 PM PST\nLocation is TBD
END:VEVENT
END:VCALENDAR
