BEGIN:VCALENDAR
CALSCALE:GREGORIAN
BEGIN:VEVENT
DTSTAMP:20231223T013253Z
DTSTART:20230422T163000Z
DTEND:20230422T180000Z
SUMMARY:This too is Torah!
UID:c8b0a79e-257e-4a97-be85-c2f20538eb2a
LOCATION:
DESCRIPTION:Thank you for registering to our event! Your tickets are attached to this email. Don't forget to bring them.\n\nWe're looking forward to seeing you there.\n\nHere are the details:\n\nThis too is Torah!\nApril 22\, 2023\, 9:30 – 11:00 AM PDT\nZoom
X-ALT-DESC;FMTTYPE=text/html:Thank you for registering to our event! Your tickets are attached to this email. Don't forget to bring them.\n\nWe're looking forward to seeing you there.\n\nHere are the details:<br>This too is Torah!\nApril 22\, 2023\, 9:30 – 11:00 AM PDT\nZoom
END:VEVENT
END:VCALENDAR
