BEGIN:VCALENDAR
CALSCALE:GREGORIAN
BEGIN:VEVENT
DTSTAMP:20231223T013136Z
DTSTART:20231216T173000Z
DTEND:20231216T183000Z
SUMMARY:Torah-From Cover to Cover
UID:c90198fa-c567-44ca-b5c2-cbb71938f572
LOCATION:
X-ALT-DESC;FMTTYPE=text/html:
END:VEVENT
END:VCALENDAR
