BEGIN:VCALENDAR
CALSCALE:GREGORIAN
BEGIN:VEVENT
DTSTAMP:20231223T013247Z
DTSTART:20230627T020000Z
DTEND:20230628T020000Z
SUMMARY:Mussar Mondays
UID:c98d831e-e028-44c7-a220-08c6441011d3
LOCATION:
DESCRIPTION:Thank you for registering to our event! Your tickets are attached to this email. Don't forget to bring them.\n\nWe're looking forward to seeing you there.\n\nHere are the details:\n\nMussar Mondays\nJune 26\, 2023 at 7:00 PM – June 27\, 2023 at 7:00 PM PDT\nZoom
X-ALT-DESC;FMTTYPE=text/html:Thank you for registering to our event! Your tickets are attached to this email. Don't forget to bring them.\n\nWe're looking forward to seeing you there.\n\nHere are the details:<br>Mussar Mondays\nJune 26\, 2023 at 7:00 PM – June 27\, 2023 at 7:00 PM PDT\nZoom
END:VEVENT
END:VCALENDAR
