BEGIN:VCALENDAR
CALSCALE:GREGORIAN
BEGIN:VEVENT
DTSTAMP:20231223T013248Z
DTSTART:20231114T023000Z
DTEND:20231114T033000Z
SUMMARY:Mussar Mondays
UID:c01fdc85-6f49-4488-b8cf-37c400ddc030
LOCATION:
X-ALT-DESC;FMTTYPE=text/html:
END:VEVENT
END:VCALENDAR
