BEGIN:VCALENDAR
CALSCALE:GREGORIAN
BEGIN:VEVENT
DTSTAMP:20231223T013139Z
DTSTART:20230622T010000Z
DTEND:20230622T023000Z
SUMMARY:Jew Curious? Hot Topics in Judaism
UID:c1392c69-270a-4a26-81a8-99602dcf4c0c
LOCATION:
DESCRIPTION:Thank you for registering to our event!\n\nWe're looking forward to seeing you there.\n\nHere are the event details:\n\nJew Curious? Hot Topics in Judaism\nJune 21\, 2023\, 6:00 – 7:30 PM PDT\nZoom
X-ALT-DESC;FMTTYPE=text/html:Thank you for registering to our event!\n\nWe're looking forward to seeing you there.\n\nHere are the event details:<br>Jew Curious? Hot Topics in Judaism\nJune 21\, 2023\, 6:00 – 7:30 PM PDT\nZoom
END:VEVENT
END:VCALENDAR
