BEGIN:VCALENDAR
CALSCALE:GREGORIAN
BEGIN:VEVENT
DTSTAMP:20231223T013101Z
DTSTART:20230701T170000Z
DTEND:20230701T183000Z
SUMMARY:Torah: From cover to cover
UID:c216b156-2798-41d3-bc34-22d14a61606c
LOCATION:
DESCRIPTION:Thank you for registering to our event!\n\nWe're looking forward to seeing you there.\n\nHere are the event details:\n\nTorah: From cover to cover\nJuly 1\, 2023\, 10:00 – 11:30 AM\nZoom
X-ALT-DESC;FMTTYPE=text/html:Thank you for registering to our event!\n\nWe're looking forward to seeing you there.\n\nHere are the event details:<br>Torah: From cover to cover\nJuly 1\, 2023\, 10:00 – 11:30 AM\nZoom
END:VEVENT
END:VCALENDAR
