BEGIN:VCALENDAR
CALSCALE:GREGORIAN
BEGIN:VEVENT
DTSTAMP:20231223T013225Z
DTSTART:20231031T013000Z
DTEND:20231031T023000Z
SUMMARY:Mussar Mondays
UID:c34e896e-2ab3-4f30-8c7b-4ca7129d172f
LOCATION:
X-ALT-DESC;FMTTYPE=text/html:
END:VEVENT
END:VCALENDAR
