BEGIN:VCALENDAR
CALSCALE:GREGORIAN
BEGIN:VEVENT
DTSTAMP:20231223T013305Z
DTSTART:20230925T013000Z
DTEND:20230926T020000Z
SUMMARY:Yom Kippur
UID:ca0aec8c-3652-49e1-b6cb-f0e3ab06c267
LOCATION:3800 Lake Washington Blvd S\, Seattle\, WA 98118\, USA
X-ALT-DESC;FMTTYPE=text/html:
END:VEVENT
END:VCALENDAR
