BEGIN:VCALENDAR
CALSCALE:GREGORIAN
BEGIN:VEVENT
DTSTAMP:20231223T013102Z
DTSTART:20230824T010000Z
DTEND:20230824T023000Z
SUMMARY:Jew Curious\; Hot Topics in Judaism
UID:d4a1c23f-d4d1-4784-8e37-4712f33735ba
LOCATION:
DESCRIPTION:Thank you for registering to our event!\n\nWe're looking forward to seeing you there.\n\nHere are the event details:\n\nJew Curious\; Hot Topics in Judaism\nAugust 23\, 2023\, 6:00 – 7:30 PM\nZoom
X-ALT-DESC;FMTTYPE=text/html:Thank you for registering to our event!\n\nWe're looking forward to seeing you there.\n\nHere are the event details:<br>Jew Curious\; Hot Topics in Judaism\nAugust 23\, 2023\, 6:00 – 7:30 PM\nZoom
END:VEVENT
END:VCALENDAR
