BEGIN:VCALENDAR
CALSCALE:GREGORIAN
BEGIN:VEVENT
DTSTAMP:20231223T013105Z
DTSTART:20231028T013000Z
DTEND:20231028T033000Z
SUMMARY:Final Fridays
UID:d72a2bba-40ad-49e6-a7f0-3b53ecff9293
LOCATION:Kenmore\, WA\, USA
DESCRIPTION:Thank you for registering to our event!\n\nWe're looking forward to seeing you.\n\nOur home is located at 19621 62nd Court NE\, Kenmore WA\, 98028\nWe ask that everyone bring a vegetarian pot-luck item to share with at least 4 people. All of our events at Masa Seattle are vegetarian in order to accommodate different levels of kashrut observance. Please email rabbisydney@masaseattle.org with any questions.\n\nFinal Fridays\nOctober 27\, 2023\, 6:30 – 8:30 PM PDT\nKenmore\, Kenmore\, WA\, USA
X-ALT-DESC;FMTTYPE=text/html:Thank you for registering to our event!\n\nWe're looking forward to seeing you.\n\nOur home is located at 19621 62nd Court NE\, Kenmore WA\, 98028\nWe ask that everyone bring a vegetarian pot-luck item to share with at least 4 people. All of our events at Masa Seattle are vegetarian in order to accommodate different levels of kashrut observance. Please email rabbisydney@masaseattle.org with any questions.<br>Final Fridays\nOctober 27\, 2023\, 6:30 – 8:30 PM PDT\nKenmore\, Kenmore\, WA\, USA
END:VEVENT
END:VCALENDAR
