BEGIN:VCALENDAR
CALSCALE:GREGORIAN
BEGIN:VEVENT
DTSTAMP:20231223T013221Z
DTSTART:20230624T011500Z
DTEND:20230625T021500Z
SUMMARY:Final Fridays
UID:d73857ac-18a0-4058-9c1e-111313072bc3
DESCRIPTION:Thank you for registering to our event!\n\nWe're looking forward to seeing you there.\n\nHere are the event details:\n\nFinal Fridays\nJune 23\, 2023 at 6:15 PM – June 24\, 2023 at 7:15 PM PDT\nLocation is TBD
X-ALT-DESC;FMTTYPE=text/html:Thank you for registering to our event!\n\nWe're looking forward to seeing you there.\n\nHere are the event details:<br>Final Fridays\nJune 23\, 2023 at 6:15 PM – June 24\, 2023 at 7:15 PM PDT\nLocation is TBD
END:VEVENT
END:VCALENDAR
