BEGIN:VCALENDAR
CALSCALE:GREGORIAN
BEGIN:VEVENT
DTSTAMP:20231223T013130Z
DTSTART:20230304T173000Z
DTEND:20230304T190000Z
SUMMARY:This too is Torah!
UID:d867826f-238f-4674-a2c7-3349f48f2c50
LOCATION:
DESCRIPTION:Thank you for registering for this too is Torah! You do not need to register for each weekly study\, as we will be using the same meeting link and password each week. \n\n\nWe're looking forward to learning with you!\n\nHere are the details:\n\nThis too is Torah!\nMarch 4\, 2023\, 9:30 – 11:00 AM PST\nZoom
X-ALT-DESC;FMTTYPE=text/html:Thank you for registering for this too is Torah! You do not need to register for each weekly study\, as we will be using the same meeting link and password each week. \n\n\nWe're looking forward to learning with you!\n\nHere are the details:<br>This too is Torah!\nMarch 4\, 2023\, 9:30 – 11:00 AM PST\nZoom
END:VEVENT
END:VCALENDAR
