BEGIN:VCALENDAR
CALSCALE:GREGORIAN
BEGIN:VEVENT
DTSTAMP:20231223T013200Z
DTSTART:20230330T013000Z
DTEND:20230330T030000Z
SUMMARY:Jew Curious? Judaism 101 for those looking to learn more about Judaism or seeking conversion
UID:d254115d-8cc0-4a8a-9905-c68f5a129ddf
LOCATION:
DESCRIPTION:Thank you for registering to our event! Your tickets are attached to this email. Don't forget to bring them.\n\nWe're looking forward to seeing you there.\n\nHere are the details:\n\nJew Curious? Judaism 101 for those looking to learn more about Judaism or seeking conversion\nMarch 29\, 2023\, 6:30 – 8:00 PM PDT\nZoom
X-ALT-DESC;FMTTYPE=text/html:Thank you for registering to our event! Your tickets are attached to this email. Don't forget to bring them.\n\nWe're looking forward to seeing you there.\n\nHere are the details:<br>Jew Curious? Judaism 101 for those looking to learn more about Judaism or seeking conversion\nMarch 29\, 2023\, 6:30 – 8:00 PM PDT\nZoom
END:VEVENT
END:VCALENDAR
