BEGIN:VCALENDAR
CALSCALE:GREGORIAN
BEGIN:VEVENT
DTSTAMP:20231223T013121Z
DTSTART:20230817T013000Z
DTEND:20230817T030000Z
SUMMARY:Jew Curious\; Hot Topics in Judaism
UID:da6b5976-cd1c-46bf-a9e4-66dd34763da1
LOCATION:
DESCRIPTION:Thank you for registering to our event!\n\nWe're looking forward to seeing you there.\n\nHere are the event details:\n\nJew Curious\; Hot Topics in Judaism\nAugust 16\, 2023\, 6:30 – 8:00 PM\nZoom
X-ALT-DESC;FMTTYPE=text/html:Thank you for registering to our event!\n\nWe're looking forward to seeing you there.\n\nHere are the event details:<br>Jew Curious\; Hot Topics in Judaism\nAugust 16\, 2023\, 6:30 – 8:00 PM\nZoom
END:VEVENT
END:VCALENDAR
