BEGIN:VCALENDAR
CALSCALE:GREGORIAN
BEGIN:VEVENT
DTSTAMP:20231223T011432Z
DTSTART:20231225T020000Z
DTEND:20231225T050000Z
SUMMARY:Netflix and Kvell
UID:db1e0ba8-18e7-422a-b3b7-d3016abd85f3
LOCATION:Kenmore\, WA\, USA
DESCRIPTION:Thank you for registering to our event!\n\nWe're looking forward to seeing you there. Our home is located at:\n\n19621 62nd Ct. NE\nKenmore\, WA 98028\n\nHere are the event details:\n\nNetflix and Kvell\nDecember 24\, 2023\, 6:00 – 9:00 PM PST\nKenmore\, Kenmore\, WA\, USA
X-ALT-DESC;FMTTYPE=text/html:Thank you for registering to our event!\n\nWe're looking forward to seeing you there. Our home is located at:\n\n19621 62nd Ct. NE\nKenmore\, WA 98028\n\nHere are the event details:<br>Netflix and Kvell\nDecember 24\, 2023\, 6:00 – 9:00 PM PST\nKenmore\, Kenmore\, WA\, USA
END:VEVENT
END:VCALENDAR
