BEGIN:VCALENDAR
CALSCALE:GREGORIAN
BEGIN:VEVENT
DTSTAMP:20231223T013251Z
DTSTART:20230617T170000Z
DTEND:20230617T183000Z
SUMMARY:Torah\, Torah\, Torah!
UID:db23770b-c0bf-4a73-9b93-50fed488c5e2
LOCATION:
DESCRIPTION:Thank you for registering to our event!\n\nWe're looking forward to seeing you there.\n\nHere are the event details:\n\nTorah\, Torah\, Torah!\nJune 17\, 2023\, 10:00 – 11:30 AM\nZoom
X-ALT-DESC;FMTTYPE=text/html:Thank you for registering to our event!\n\nWe're looking forward to seeing you there.\n\nHere are the event details:<br>Torah\, Torah\, Torah!\nJune 17\, 2023\, 10:00 – 11:30 AM\nZoom
END:VEVENT
END:VCALENDAR
