BEGIN:VCALENDAR
CALSCALE:GREGORIAN
BEGIN:VEVENT
DTSTAMP:20231223T013156Z
DTSTART:20230316T010000Z
DTEND:20230316T023000Z
SUMMARY:Torah\, Torah\, Torah!
UID:dec31379-0a49-4b7e-bf5c-e849544172cb
LOCATION:
DESCRIPTION:Thank you for registering to our event!\n\nWe're looking forward to seeing you there.\n\nHere are the event details:\n\nTorah\, Torah\, Torah!\nMarch 15\, 2023\, 6:00 – 7:30 PM PDT\nZoom
X-ALT-DESC;FMTTYPE=text/html:Thank you for registering to our event!\n\nWe're looking forward to seeing you there.\n\nHere are the event details:<br>Torah\, Torah\, Torah!\nMarch 15\, 2023\, 6:00 – 7:30 PM PDT\nZoom
END:VEVENT
END:VCALENDAR
