BEGIN:VCALENDAR
CALSCALE:GREGORIAN
BEGIN:VEVENT
DTSTAMP:20231223T013227Z
DTSTART:20231028T163000Z
DTEND:20231028T173000Z
SUMMARY:Torah-From Cover to Cover
UID:e4b367f2-2967-4010-97ae-df718ebba2ee
LOCATION:
X-ALT-DESC;FMTTYPE=text/html:
END:VEVENT
END:VCALENDAR
