BEGIN:VCALENDAR
CALSCALE:GREGORIAN
BEGIN:VEVENT
DTSTAMP:20231223T013527Z
DTSTART:20231230T023000Z
DTEND:20231230T043000Z
SUMMARY:Final Fridays
UID:e6404c77-cbb3-4a70-a250-8869425384e1
LOCATION:17547 15th Ave NE\, Shoreline\, WA 98155\, USA
DESCRIPTION:Thank you for registering to our event!\n\nWe're looking forward to seeing you there.\n\nHere are the event details:\n\nFinal Fridays\nDecember 29\, 2023\, 6:30 – 8:30 PM PST\nShoreline\, 17547 15th Ave NE\, Shoreline\, WA 98155\, USA
X-ALT-DESC;FMTTYPE=text/html:Thank you for registering to our event!\n\nWe're looking forward to seeing you there.\n\nHere are the event details:<br>Final Fridays\nDecember 29\, 2023\, 6:30 – 8:30 PM PST\nShoreline\, 17547 15th Ave NE\, Shoreline\, WA 98155\, USA
END:VEVENT
END:VCALENDAR
