BEGIN:VCALENDAR
CALSCALE:GREGORIAN
BEGIN:VEVENT
DTSTAMP:20231223T013059Z
DTSTART:20230513T163000Z
DTEND:20230513T180000Z
SUMMARY:This too is Torah!
UID:e315899d-e037-4747-8bf9-001b75693cbb
LOCATION:
DESCRIPTION:Thank you for registering to our event! Your tickets are attached to this email. Don't forget to bring them.\n\nWe're looking forward to seeing you there.\n\nHere are the details:\n\nThis too is Torah!\nMay 13\, 2023\, 9:30 – 11:00 AM PDT\nZoom
X-ALT-DESC;FMTTYPE=text/html:Thank you for registering to our event! Your tickets are attached to this email. Don't forget to bring them.\n\nWe're looking forward to seeing you there.\n\nHere are the details:<br>This too is Torah!\nMay 13\, 2023\, 9:30 – 11:00 AM PDT\nZoom
END:VEVENT
END:VCALENDAR
