BEGIN:VCALENDAR
CALSCALE:GREGORIAN
BEGIN:VEVENT
DTSTAMP:20231223T013051Z
DTSTART:20230903T170000Z
DTEND:20230903T183000Z
SUMMARY:Mini-Mensch Meet-Up
UID:f4ef353b-3a4a-4eac-99bb-302c987fc38d
LOCATION:2021 NW 190th St\, Shoreline\, WA 98177\, USA
DESCRIPTION:Thank you for registering for our Mini-Mensch Meet Up!\n\nWe're looking forward to seeing you there.\n\nHere are the event details:\n\nMini-Mensch Meet-Up\nSeptember 3\, 2023\, 10:00 – 11:30 AM\nShoreline\, 2021 NW 190th St\, Shoreline\, WA 98177\, USA
X-ALT-DESC;FMTTYPE=text/html:Thank you for registering for our Mini-Mensch Meet Up!\n\nWe're looking forward to seeing you there.\n\nHere are the event details:<br>Mini-Mensch Meet-Up\nSeptember 3\, 2023\, 10:00 – 11:30 AM\nShoreline\, 2021 NW 190th St\, Shoreline\, WA 98177\, USA
END:VEVENT
END:VCALENDAR
