BEGIN:VCALENDAR
CALSCALE:GREGORIAN
BEGIN:VEVENT
DTSTAMP:20231223T013041Z
DTSTART:20230826T011500Z
DTEND:20230827T021500Z
SUMMARY:Final Fridays
UID:f5729017-a1d5-4918-9bc4-34b2d29d013d
DESCRIPTION:Thank you for registering to our event!\n\nWe're looking forward to seeing you there.\n\nHere are the event details:\n\nFinal Fridays\nAugust 25\, 2023 at 6:15 PM – August 26\, 2023 at 7:15 PM PDT\nLocation is TBD
X-ALT-DESC;FMTTYPE=text/html:Thank you for registering to our event!\n\nWe're looking forward to seeing you there.\n\nHere are the event details:<br>Final Fridays\nAugust 25\, 2023 at 6:15 PM – August 26\, 2023 at 7:15 PM PDT\nLocation is TBD
END:VEVENT
END:VCALENDAR
