BEGIN:VCALENDAR
CALSCALE:GREGORIAN
BEGIN:VEVENT
DTSTAMP:20231223T013112Z
DTSTART:20230611T170000Z
DTEND:20230611T190000Z
SUMMARY:Mini-Mensch
UID:f6ddd24a-7483-407e-9588-4a23db025f8a
DESCRIPTION:Thank you for registering to our event! Your tickets are attached to this email. Don't forget to bring them.\n\nWe're looking forward to seeing you there.\n\nHere are the details:\n\nMini-Mensch\nJune 11\, 2023\, 10:00 AM – 12:00 PM PDT\nLocation is TBD
X-ALT-DESC;FMTTYPE=text/html:Thank you for registering to our event! Your tickets are attached to this email. Don't forget to bring them.\n\nWe're looking forward to seeing you there.\n\nHere are the details:<br>Mini-Mensch\nJune 11\, 2023\, 10:00 AM – 12:00 PM PDT\nLocation is TBD
END:VEVENT
END:VCALENDAR
