BEGIN:VCALENDAR
CALSCALE:GREGORIAN
BEGIN:VEVENT
DTSTAMP:20231223T013240Z
DTSTART:20231104T163000Z
DTEND:20231104T173000Z
SUMMARY:Torah-From Cover to Cover
UID:f71c3ecd-84ca-43e1-8d8c-4efe02843b8c
LOCATION:
X-ALT-DESC;FMTTYPE=text/html:
END:VEVENT
END:VCALENDAR
