BEGIN:VCALENDAR
CALSCALE:GREGORIAN
BEGIN:VEVENT
DTSTAMP:20231223T013159Z
DTSTART:20230603T170000Z
DTEND:20230603T183000Z
SUMMARY:Torah\, Torah\, Torah!
UID:f9b9a790-9651-4fb0-bd39-5e7369508ac6
LOCATION:
DESCRIPTION:Thank you for registering to our event!\n\nWe're looking forward to seeing you there.\n\nHere are the event details:\n\nTorah\, Torah\, Torah!\nJune 3\, 2023\, 10:00 – 11:30 AM\nZoom
X-ALT-DESC;FMTTYPE=text/html:Thank you for registering to our event!\n\nWe're looking forward to seeing you there.\n\nHere are the event details:<br>Torah\, Torah\, Torah!\nJune 3\, 2023\, 10:00 – 11:30 AM\nZoom
END:VEVENT
END:VCALENDAR
