BEGIN:VCALENDAR
CALSCALE:GREGORIAN
BEGIN:VEVENT
DTSTAMP:20231223T013258Z
DTSTART:20231125T173000Z
DTEND:20231125T183000Z
SUMMARY:Torah-From Cover to Cover
UID:f0b03097-02f6-4ff1-8a96-ea5a840407f0
LOCATION:
X-ALT-DESC;FMTTYPE=text/html:
END:VEVENT
END:VCALENDAR
