BEGIN:VCALENDAR
CALSCALE:GREGORIAN
BEGIN:VEVENT
DTSTAMP:20231223T013238Z
DTSTART:20231105T180000Z
DTEND:20231105T193000Z
SUMMARY:Mini-Mensch Meet-Up
UID:f0c6618a-3da3-466f-ab73-c626e7a4b016
LOCATION:1502 Wall St\, Everett\, WA 98201\, USA
DESCRIPTION:Thank you for registering for our Mini-Mensch Meet Up!\n\nWe're looking forward to seeing you there.\n\nHere are the event details:\n\nMini-Mensch Meet-Up\nNovember 5\, 2023\, 10:00 – 11:30 AM\nEverett\, 1502 Wall St\, Everett\, WA 98201\, USA
X-ALT-DESC;FMTTYPE=text/html:Thank you for registering for our Mini-Mensch Meet Up!\n\nWe're looking forward to seeing you there.\n\nHere are the event details:<br>Mini-Mensch Meet-Up\nNovember 5\, 2023\, 10:00 – 11:30 AM\nEverett\, 1502 Wall St\, Everett\, WA 98201\, USA
END:VEVENT
END:VCALENDAR
