BEGIN:VCALENDAR
CALSCALE:GREGORIAN
BEGIN:VEVENT
DTSTAMP:20231223T013118Z
DTSTART:20231007T163000Z
DTEND:20231007T173000Z
SUMMARY:Torah-From Cover to Cover
UID:f17b3dc1-8b0f-4a31-8279-6a8fd7449940
LOCATION:
X-ALT-DESC;FMTTYPE=text/html:
END:VEVENT
END:VCALENDAR
