BEGIN:VCALENDAR
CALSCALE:GREGORIAN
BEGIN:VEVENT
DTSTAMP:20231223T013243Z
DTSTART:20231107T023000Z
DTEND:20231107T033000Z
SUMMARY:Mussar Mondays
UID:fb0ba65c-fcb1-42fa-aff2-7e521675c05b
LOCATION:
X-ALT-DESC;FMTTYPE=text/html:
END:VEVENT
END:VCALENDAR
