BEGIN:VCALENDAR
CALSCALE:GREGORIAN
BEGIN:VEVENT
DTSTAMP:20231223T013110Z
DTSTART:20231012T013000Z
DTEND:20231012T023000Z
SUMMARY:Jew Curious\; Hot Topics in Judaism
UID:fddf15d0-1d6d-4acb-b611-8ded4e683ac9
LOCATION:
X-ALT-DESC;FMTTYPE=text/html:
END:VEVENT
END:VCALENDAR
