BEGIN:VCALENDAR
CALSCALE:GREGORIAN
BEGIN:VEVENT
DTSTAMP:20231223T013125Z
DTSTART:20230615T010000Z
DTEND:20230615T023000Z
SUMMARY:Jew Curious? Judaism 101
UID:fef585cb-1683-4511-ae43-675c7ae91600
LOCATION:
DESCRIPTION:Thank you for registering to our event!\n\nWe're looking forward to seeing you there.\n\nHere are the event details:\n\nJew Curious? Judaism 101\nJune 14\, 2023\, 6:00 – 7:30 PM PDT\nZoom
X-ALT-DESC;FMTTYPE=text/html:Thank you for registering to our event!\n\nWe're looking forward to seeing you there.\n\nHere are the event details:<br>Jew Curious? Judaism 101\nJune 14\, 2023\, 6:00 – 7:30 PM PDT\nZoom
END:VEVENT
END:VCALENDAR
