BEGIN:VCALENDAR
CALSCALE:GREGORIAN
BEGIN:VEVENT
DTSTAMP:20231223T013145Z
DTSTART:20230930T013000Z
DTEND:20230930T033000Z
SUMMARY:Final Fridays: in the Sukkah
UID:ffb817e6-c4df-45d2-8239-4648ec1b9a85
LOCATION:Kenmore\, WA\, USA
DESCRIPTION:Thank you for registering for Final Fridays! This will be a special Sukkot edition where we fulfill the commandment of "l'shev b'sukkah" sitting in the sukkah. You are cordially invited to the Danziger Family Sukkah. Our home is located at 19621 62nd Ct. NE\, Kenmore WA\, 98028. \n\nWe're looking forward to seeing you there.\n\nHere are the event details:\n\nFinal Fridays: in the Sukkah\nSeptember 29\, 2023\, 6:30 – 8:30 PM PDT\nKenmore\, Kenmore\, WA\, USA
X-ALT-DESC;FMTTYPE=text/html:Thank you for registering for Final Fridays! This will be a special Sukkot edition where we fulfill the commandment of "l'shev b'sukkah" sitting in the sukkah. You are cordially invited to the Danziger Family Sukkah. Our home is located at 19621 62nd Ct. NE\, Kenmore WA\, 98028. \n\nWe're looking forward to seeing you there.\n\nHere are the event details:<br>Final Fridays: in the Sukkah\nSeptember 29\, 2023\, 6:30 – 8:30 PM PDT\nKenmore\, Kenmore\, WA\, USA
END:VEVENT
END:VCALENDAR
