BEGIN:VCALENDAR
CALSCALE:GREGORIAN
BEGIN:VEVENT
DTSTAMP:20231201T200100Z
DTSTART:20230530T000000Z
DTEND:20230530T040000Z
SUMMARY:Reading Olympics 
UID:2660d0da-da08-4f74-9fca-33115d2e1e0c
LOCATION:500 Terry A Francois Blvd\, San Francisco\, CA 94158\, USA
DESCRIPTION:Thank you for registering to our event! Your tickets are attached to this email. Don't forget to bring them.\n\nWe're looking forward to seeing you there.\n\nHere are the details:\n\nReading Olympics \n29 Μαΐου 2023 στις 5:00 μ.μ.\n500 Terry A Francois Blvd\, 500 Terry A Francois Blvd\, San Francisco\, CA 94158\, USA
X-ALT-DESC;FMTTYPE=text/html:Thank you for registering to our event! Your tickets are attached to this email. Don't forget to bring them.\n\nWe're looking forward to seeing you there.\n\nHere are the details:<br>Reading Olympics \n29 Μαΐου 2023 στις 5:00 μ.μ.\n500 Terry A Francois Blvd\, 500 Terry A Francois Blvd\, San Francisco\, CA 94158\, USA
END:VEVENT
END:VCALENDAR
