BEGIN:VCALENDAR
CALSCALE:GREGORIAN
BEGIN:VEVENT
DTSTAMP:20231201T201641Z
DTSTART:20230916T020000Z
DTEND:20230916T060000Z
SUMMARY:Professional Learning Day
UID:70346ff5-621d-4d30-a638-783ba0d03197
LOCATION:500 Terry A Francois Blvd\, San Francisco\, CA 94158\, USA
DESCRIPTION:Thank you for registering to our event! Your tickets are attached to this email. Don't forget to bring them.\n\nWe're looking forward to seeing you there.\n\nHere are the details:\n\nProfessional Learning Day\n15 Σεπτεμβρίου 2023 στις 7:00 μ.μ.\n500 Terry A Francois Blvd\, 500 Terry A Francois Blvd\, San Francisco\, CA 94158\, USA
X-ALT-DESC;FMTTYPE=text/html:Thank you for registering to our event! Your tickets are attached to this email. Don't forget to bring them.\n\nWe're looking forward to seeing you there.\n\nHere are the details:<br>Professional Learning Day\n15 Σεπτεμβρίου 2023 στις 7:00 μ.μ.\n500 Terry A Francois Blvd\, 500 Terry A Francois Blvd\, San Francisco\, CA 94158\, USA
END:VEVENT
END:VCALENDAR
