BEGIN:VCALENDAR
CALSCALE:GREGORIAN
BEGIN:VEVENT
DTSTAMP:20231201T200058Z
DTSTART:20230417T230000Z
DTEND:20230418T030000Z
SUMMARY:Board of Education Special Meeting
UID:d6640201-170a-441b-9d05-e74036923034
LOCATION:500 Terry A Francois Blvd\, San Francisco\, CA 94158\, USA
DESCRIPTION:Thank you for registering to our event! Your tickets are attached to this email. Don't forget to bring them.\n\nWe're looking forward to seeing you there.\n\nHere are the details:\n\nBoard of Education Special Meeting\n17 Απριλίου 2023 στις 4:00 μ.μ.\n500 Terry A Francois Blvd\, 500 Terry A Francois Blvd\, San Francisco\, CA 94158\, USA
X-ALT-DESC;FMTTYPE=text/html:Thank you for registering to our event! Your tickets are attached to this email. Don't forget to bring them.\n\nWe're looking forward to seeing you there.\n\nHere are the details:<br>Board of Education Special Meeting\n17 Απριλίου 2023 στις 4:00 μ.μ.\n500 Terry A Francois Blvd\, 500 Terry A Francois Blvd\, San Francisco\, CA 94158\, USA
END:VEVENT
END:VCALENDAR
