BEGIN:VCALENDAR
CALSCALE:GREGORIAN
BEGIN:VEVENT
DTSTAMP:20231024T170618Z
DTSTART:20200614T090000Z
DTEND:20200614T140000Z
SUMMARY:Grève des femmes\, grève féministe
UID:012eed86-51d3-4dcb-9901-c2c85611f489
LOCATION:Lausanne\, Suisse
DESCRIPTION:Merci de votre inscription à notre événement !\n\nNous nous réjouissons de vous y voir !\n\nGrève des femmes\, grève féministe\n14 juin 2020\, 11:00 – 16:00\nLausanne\, Lausanne\, Suisse
X-ALT-DESC;FMTTYPE=text/html:Merci de votre inscription à notre événement !\n\nNous nous réjouissons de vous y voir !<br>Grève des femmes\, grève féministe\n14 juin 2020\, 11:00 – 16:00\nLausanne\, Lausanne\, Suisse
END:VEVENT
END:VCALENDAR
