BEGIN:VCALENDAR
CALSCALE:GREGORIAN
BEGIN:VEVENT
DTSTAMP:20231024T170645Z
DTSTART:20210507T170000Z
DTEND:20210507T210000Z
SUMMARY:AG de mai
UID:12a81e49-8524-4497-b226-88f44984ff74
LOCATION:
DESCRIPTION:Merci pour votre inscription à notre événement. Vos billets sont joints à cet e-mail. N'oubliez pas de les amener avec vous.\n\nNous nous réjouissons de vous y voir !\n\nVoici les détails de l'événement :\n\nAG de mai\n7 mai 2021 à 19:00\nAG de mai
X-ALT-DESC;FMTTYPE=text/html:Merci pour votre inscription à notre événement. Vos billets sont joints à cet e-mail. N'oubliez pas de les amener avec vous.\n\nNous nous réjouissons de vous y voir !\n\nVoici les détails de l'événement :<br>AG de mai\n7 mai 2021 à 19:00\nAG de mai
END:VEVENT
END:VCALENDAR
