BEGIN:VCALENDAR
CALSCALE:GREGORIAN
BEGIN:VEVENT
DTSTAMP:20231024T170631Z
DTSTART:20201205T120000Z
DTEND:20201205T160000Z
SUMMARY:AA 2020
UID:21e93134-d24b-454d-981f-bbff9fb90be1
LOCATION:
X-ALT-DESC;FMTTYPE=text/html:
END:VEVENT
END:VCALENDAR
