BEGIN:VCALENDAR
CALSCALE:GREGORIAN
BEGIN:VEVENT
DTSTAMP:20231024T170621Z
DTSTART:20211204T120000Z
DTEND:20211204T160000Z
SUMMARY:Assemblée Annuelle de la JSV
UID:32c6b95b-8e38-4a5a-8dcd-464fa079d47e
LOCATION:Place du Marché 1\, 1800 Vevey\, Suisse
DESCRIPTION:Merci pour votre inscription à notre événement. Vos billets sont joints à cet e-mail. N'oubliez pas de les amener avec vous.\n\nNous nous réjouissons de vous y voir !\n\nVoici les détails de l'événement :\n\nAssemblée Annuelle de la JSV\n4 décembre 2021 à 13:00 UTC+1\nSalle du Conseil communal de Vevey\, Place du Marché 1\, 1800 Vevey\, Suisse
X-ALT-DESC;FMTTYPE=text/html:Merci pour votre inscription à notre événement. Vos billets sont joints à cet e-mail. N'oubliez pas de les amener avec vous.\n\nNous nous réjouissons de vous y voir !\n\nVoici les détails de l'événement :<br>Assemblée Annuelle de la JSV\n4 décembre 2021 à 13:00 UTC+1\nSalle du Conseil communal de Vevey\, Place du Marché 1\, 1800 Vevey\, Suisse
END:VEVENT
END:VCALENDAR
