BEGIN:VCALENDAR
CALSCALE:GREGORIAN
BEGIN:VEVENT
DTSTAMP:20231024T170625Z
DTSTART:20200904T120000Z
DTEND:20200904T160000Z
SUMMARY:Manifestation pour le climat
UID:3cc69e1c-8217-4c61-8821-3881b0bbd067
LOCATION:Place de la Gare 5A\, 1003 Lausanne\, Suisse
X-ALT-DESC;FMTTYPE=text/html:
END:VEVENT
END:VCALENDAR
